BEGIN:VCALENDAR
VERSION:2.0
PRODID:-//lincolnikes.com//NONSGML kigkonsult.se iCalcreator 2.30.10//
CALSCALE:GREGORIAN
METHOD:PUBLISH
UID:863a76fe-9c85-4d25-9019-8384260f8f05
X-WR-CALDESC:
X-WR-RELCALID:5d4c3722a4098b6f049ebb59ae2d9cf4
X-WR-TIMEZONE:America/Chicago
BEGIN:VTIMEZONE
TZID:America/Chicago
BEGIN:STANDARD
TZNAME:CST
DTSTART:20231105T020000
TZOFFSETFROM:-0500
TZOFFSETTO:-0600
RDATE:20241103T020000
RDATE:20251102T020000
END:STANDARD
BEGIN:DAYLIGHT
TZNAME:CDT
DTSTART:20240310T020000
TZOFFSETFROM:-0600
TZOFFSETTO:-0500
RDATE:20250309T020000
RDATE:20260308T020000
END:DAYLIGHT
END:VTIMEZONE
BEGIN:VEVENT
UID:8c4687ce-c2d2-4869-9bf2-15ebdae29509
DTSTAMP:20260424T090902Z
DESCRIPTION:
DTSTART;TZID=America/Chicago:20241020T080000
DTEND;TZID=America/Chicago:20241020T130000
LOCATION:Lincoln Ikes Rifle Range 4
SUMMARY:IHMSA Handgun Match (Range 4)
END:VEVENT
END:VCALENDAR
