BEGIN:VCALENDAR
VERSION:2.0
PRODID:-//lincolnikes.com//NONSGML kigkonsult.se iCalcreator 2.30.10//
CALSCALE:GREGORIAN
METHOD:PUBLISH
UID:0ecd72dc-30b3-4c3b-b915-32ae734cc675
X-WR-CALDESC:
X-WR-RELCALID:b824181d4e8fcea47bac4134a6408343
X-WR-TIMEZONE:America/Chicago
BEGIN:VTIMEZONE
TZID:America/Chicago
BEGIN:STANDARD
TZNAME:CST
DTSTART:20231105T020000
TZOFFSETFROM:-0500
TZOFFSETTO:-0600
RDATE:20241103T020000
RDATE:20251102T020000
END:STANDARD
BEGIN:DAYLIGHT
TZNAME:CDT
DTSTART:20240310T020000
TZOFFSETFROM:-0600
TZOFFSETTO:-0500
RDATE:20250309T020000
RDATE:20260308T020000
END:DAYLIGHT
END:VTIMEZONE
BEGIN:VEVENT
UID:18e8be78-efee-4756-ae73-724a93f48e7f
DTSTAMP:20260424T091258Z
DESCRIPTION:
DTSTART;TZID=America/Chicago:20241026T070000
DTEND;TZID=America/Chicago:20241026T120000
LOCATION:Lincoln Ikes Rifle/Pistol Range 1
SUMMARY:.22 Challenge (Rifle Range 1) (Registration @ 8:30 am\; Shooting @ 
 9 am)
END:VEVENT
END:VCALENDAR
