BEGIN:VCALENDAR
VERSION:2.0
PRODID:-//lincolnikes.com//NONSGML kigkonsult.se iCalcreator 2.30.10//
CALSCALE:GREGORIAN
METHOD:PUBLISH
UID:3837db10-57ff-4c14-bb0a-f7a37d67b0ed
X-WR-CALDESC:*Weather permitting. If we should have some inclement weather\
 , this practice time will be canceled. Feel free to call RSO Bennett to ve
 rify.
X-WR-RELCALID:e60145dd7729b184bcbaaa1a26678e52
X-WR-TIMEZONE:America/Chicago
BEGIN:VTIMEZONE
TZID:America/Chicago
BEGIN:STANDARD
TZNAME:CST
DTSTART:20231105T020000
TZOFFSETFROM:-0500
TZOFFSETTO:-0600
RDATE:20241103T020000
RDATE:20251102T020000
END:STANDARD
BEGIN:DAYLIGHT
TZNAME:CDT
DTSTART:20240310T020000
TZOFFSETFROM:-0600
TZOFFSETTO:-0500
RDATE:20250309T020000
RDATE:20260308T020000
END:DAYLIGHT
END:VTIMEZONE
BEGIN:VEVENT
UID:06667d61-ad89-4f8f-91d4-c65782bcbca4
DTSTAMP:20260424T071403Z
DESCRIPTION:*Weather permitting. If we should have some inclement weather\,
  this practice time will be canceled. Feel free to call RSO Bennett to ver
 ify.
DTSTART;TZID=America/Chicago:20241101T050000
DTEND;TZID=America/Chicago:20241101T050001
LOCATION:Lincoln Ikes Rifle Range 4
SUMMARY:CANCELED - Range 4 Members Practice (Bennett)
END:VEVENT
END:VCALENDAR
