BEGIN:VCALENDAR
VERSION:2.0
PRODID:-//lincolnikes.com//NONSGML kigkonsult.se iCalcreator 2.30.10//
CALSCALE:GREGORIAN
METHOD:PUBLISH
UID:4e240a70-726a-4d47-8eaa-1149b87aba1c
X-WR-CALDESC:
X-WR-RELCALID:c7e5a0bdc5ed29aa96442b60f108cf97
X-WR-TIMEZONE:America/Chicago
BEGIN:VTIMEZONE
TZID:America/Chicago
BEGIN:STANDARD
TZNAME:CST
DTSTART:20241103T020000
TZOFFSETFROM:-0500
TZOFFSETTO:-0600
RDATE:20251102T020000
END:STANDARD
BEGIN:DAYLIGHT
TZNAME:CDT
DTSTART:20240310T020000
TZOFFSETFROM:-0600
TZOFFSETTO:-0500
RDATE:20250309T020000
RDATE:20260308T020000
END:DAYLIGHT
END:VTIMEZONE
BEGIN:VEVENT
UID:356ee0eb-e74d-4b5f-89df-eac97a5103b6
DTSTAMP:20260424T072250Z
DESCRIPTION:
DTSTART;TZID=America/Chicago:20241127T190000
DTEND;TZID=America/Chicago:20241127T200000
LOCATION:Lincoln Ikes Clubhouse
SUMMARY:Rifle/Pistol Committee Meeting (Clubhouse)
END:VEVENT
END:VCALENDAR
