BEGIN:VCALENDAR
VERSION:2.0
PRODID:-//lincolnikes.com//NONSGML kigkonsult.se iCalcreator 2.30.10//
CALSCALE:GREGORIAN
METHOD:PUBLISH
UID:b17c6302-69b5-4a43-b3ad-ffd69e985d3c
X-WR-CALDESC:
X-WR-RELCALID:3e30a10f574c1538133f3d5be17d26bc
X-WR-TIMEZONE:America/Chicago
BEGIN:VTIMEZONE
TZID:America/Chicago
BEGIN:STANDARD
TZNAME:CST
DTSTART:20241103T020000
TZOFFSETFROM:-0500
TZOFFSETTO:-0600
RDATE:20251102T020000
END:STANDARD
BEGIN:DAYLIGHT
TZNAME:CDT
DTSTART:20240310T020000
TZOFFSETFROM:-0600
TZOFFSETTO:-0500
RDATE:20250309T020000
RDATE:20260308T020000
END:DAYLIGHT
END:VTIMEZONE
BEGIN:VEVENT
UID:43abb692-43c8-483c-9f8e-dacc6c48ac49
DTSTAMP:20260424T052403Z
DESCRIPTION:
DTSTART;TZID=America/Chicago:20241207T050000
DTEND;TZID=America/Chicago:20241207T050001
LOCATION:Lincoln Ikes Rifle Range 4
SUMMARY:CANCELED: Club Benchrest 300-Yard (Range 4)
END:VEVENT
END:VCALENDAR
