BEGIN:VCALENDAR
VERSION:2.0
PRODID:-//lincolnikes.com//NONSGML kigkonsult.se iCalcreator 2.30.10//
CALSCALE:GREGORIAN
METHOD:PUBLISH
UID:7a9a6b26-d8f3-42c2-b121-682e5cba9bed
X-WR-CALDESC:
X-WR-RELCALID:348419584d2fa06c715bee778a6397b6
X-WR-TIMEZONE:America/Chicago
BEGIN:VTIMEZONE
TZID:America/Chicago
BEGIN:STANDARD
TZNAME:CST
DTSTART:20241103T020000
TZOFFSETFROM:-0500
TZOFFSETTO:-0600
RDATE:20251102T020000
END:STANDARD
BEGIN:DAYLIGHT
TZNAME:CDT
DTSTART:20240310T020000
TZOFFSETFROM:-0600
TZOFFSETTO:-0500
RDATE:20250309T020000
RDATE:20260308T020000
END:DAYLIGHT
END:VTIMEZONE
BEGIN:VEVENT
UID:63638212-b70a-479e-916f-fd18f0e0f28e
DTSTAMP:20260424T051643Z
DESCRIPTION:
DTSTART;TZID=America/Chicago:20241215T080000
DTEND;TZID=America/Chicago:20241215T130000
LOCATION:Lincoln Ikes Clubhouse
SUMMARY:IHMSA Indoor Pistol Silhouettes Match (Clubhouse)
END:VEVENT
END:VCALENDAR
