BEGIN:VCALENDAR
VERSION:2.0
PRODID:-//lincolnikes.com//NONSGML kigkonsult.se iCalcreator 2.30.10//
CALSCALE:GREGORIAN
METHOD:PUBLISH
UID:c9396cf9-b6f2-4b53-b0aa-6b88b48870e4
X-WR-CALDESC:
X-WR-RELCALID:005f85e3fda9a797089b3d15ff718f9c
X-WR-TIMEZONE:America/Chicago
BEGIN:VTIMEZONE
TZID:America/Chicago
BEGIN:STANDARD
TZNAME:CST
DTSTART:20241103T020000
TZOFFSETFROM:-0500
TZOFFSETTO:-0600
RDATE:20251102T020000
END:STANDARD
BEGIN:DAYLIGHT
TZNAME:CDT
DTSTART:20240310T020000
TZOFFSETFROM:-0600
TZOFFSETTO:-0500
RDATE:20250309T020000
RDATE:20260308T020000
END:DAYLIGHT
END:VTIMEZONE
BEGIN:VEVENT
UID:2b19b3ab-1404-4e6f-bb0d-2c958285cfcf
DTSTAMP:20260424T033335Z
DESCRIPTION:
DTSTART;TZID=America/Chicago:20250104T080000
DTEND;TZID=America/Chicago:20250104T150000
LOCATION:Lincoln Ikes Rifle Range 4
SUMMARY:CANCELED: Club Benchrest 300-Yard (Range 4)
END:VEVENT
END:VCALENDAR
