BEGIN:VCALENDAR
VERSION:2.0
PRODID:-//lincolnikes.com//NONSGML kigkonsult.se iCalcreator 2.30.10//
CALSCALE:GREGORIAN
METHOD:PUBLISH
UID:fd5e0ed4-8d3b-4d98-8ce9-268415c6ebed
X-WR-CALDESC:Must register for event at the Nebraska Game & Parks Commissio
 n link listed below.
X-WR-RELCALID:cc18234a58565bd7058ae8838b6ac583
X-WR-TIMEZONE:America/Chicago
BEGIN:VTIMEZONE
TZID:America/Chicago
BEGIN:STANDARD
TZNAME:CST
DTSTART:20241103T020000
TZOFFSETFROM:-0500
TZOFFSETTO:-0600
RDATE:20251102T020000
END:STANDARD
BEGIN:DAYLIGHT
TZNAME:CDT
DTSTART:20240310T020000
TZOFFSETFROM:-0600
TZOFFSETTO:-0500
RDATE:20250309T020000
RDATE:20260308T020000
END:DAYLIGHT
END:VTIMEZONE
BEGIN:VEVENT
UID:7f177138-5ea3-4401-b438-56ef35b8649b
DTSTAMP:20260424T033636Z
DESCRIPTION:Must register for event at the Nebraska Game & Parks Commission
  link listed below.
DTSTART;TZID=America/Chicago:20250122T180000
DTEND;TZID=America/Chicago:20250122T210000
LOCATION:Lincoln Ikes Clubhouse
SUMMARY:Hunter Education Class (Clubhouse)
END:VEVENT
END:VCALENDAR
