BEGIN:VCALENDAR
VERSION:2.0
PRODID:-//lincolnikes.com//NONSGML kigkonsult.se iCalcreator 2.30.10//
CALSCALE:GREGORIAN
METHOD:PUBLISH
UID:637b0721-b6c4-427b-a80d-a430939278ec
X-WR-CALDESC:Must register for event at the Nebraska Game & Parks Commissio
 n link listed below.
X-WR-RELCALID:e9094c3b7d1e8b79da7c6c69961b7837
X-WR-TIMEZONE:America/Chicago
BEGIN:VTIMEZONE
TZID:America/Chicago
BEGIN:STANDARD
TZNAME:CST
DTSTART:20241103T020000
TZOFFSETFROM:-0500
TZOFFSETTO:-0600
RDATE:20251102T020000
END:STANDARD
BEGIN:DAYLIGHT
TZNAME:CDT
DTSTART:20240310T020000
TZOFFSETFROM:-0600
TZOFFSETTO:-0500
RDATE:20250309T020000
RDATE:20260308T020000
END:DAYLIGHT
END:VTIMEZONE
BEGIN:VEVENT
UID:e88a0470-9bf3-4eaa-bc48-6ef087ee3bd8
DTSTAMP:20260424T034153Z
DESCRIPTION:Must register for event at the Nebraska Game & Parks Commission
  link listed below.
DTSTART;TZID=America/Chicago:20250123T180000
DTEND;TZID=America/Chicago:20250123T210000
LOCATION:Lincoln Ikes Clubhouse
SUMMARY:Hunter Safe Class (Clubhouse)
END:VEVENT
END:VCALENDAR
