BEGIN:VCALENDAR
VERSION:2.0
PRODID:-//lincolnikes.com//NONSGML kigkonsult.se iCalcreator 2.30.10//
CALSCALE:GREGORIAN
METHOD:PUBLISH
UID:8e5bb6e7-c6ee-49ee-a318-7e9d5edfee54
X-WR-CALDESC:Must register for event at the Nebraska Game & Parks Commissio
 n link listed below.
X-WR-RELCALID:3a047ae7836bb7cf8bb0fa812a3c3223
X-WR-TIMEZONE:America/Chicago
BEGIN:VTIMEZONE
TZID:America/Chicago
BEGIN:STANDARD
TZNAME:CST
DTSTART:20241103T020000
TZOFFSETFROM:-0500
TZOFFSETTO:-0600
RDATE:20251102T020000
END:STANDARD
BEGIN:DAYLIGHT
TZNAME:CDT
DTSTART:20240310T020000
TZOFFSETFROM:-0600
TZOFFSETTO:-0500
RDATE:20250309T020000
RDATE:20260308T020000
END:DAYLIGHT
END:VTIMEZONE
BEGIN:VEVENT
UID:b30315bd-ca22-4993-83d9-96d91abd0622
DTSTAMP:20260424T034153Z
DESCRIPTION:Must register for event at the Nebraska Game & Parks Commission
  link listed below.
DTSTART;TZID=America/Chicago:20250127T180000
DTEND;TZID=America/Chicago:20250127T210000
LOCATION:Lincoln Ikes Clubhouse
SUMMARY:Hunter Safe Class (Clubhouse)
END:VEVENT
END:VCALENDAR
