BEGIN:VCALENDAR
VERSION:2.0
PRODID:-//lincolnikes.com//NONSGML kigkonsult.se iCalcreator 2.30.10//
CALSCALE:GREGORIAN
METHOD:PUBLISH
UID:4495c67b-20b6-4492-84c9-84c8af969469
X-WR-CALDESC:
X-WR-RELCALID:ac5953183825ac5ea38895a9c7ee7f1e
X-WR-TIMEZONE:America/Chicago
BEGIN:VTIMEZONE
TZID:America/Chicago
BEGIN:STANDARD
TZNAME:CST
DTSTART:20241103T020000
TZOFFSETFROM:-0500
TZOFFSETTO:-0600
RDATE:20251102T020000
END:STANDARD
BEGIN:DAYLIGHT
TZNAME:CDT
DTSTART:20240310T020000
TZOFFSETFROM:-0600
TZOFFSETTO:-0500
RDATE:20250309T020000
RDATE:20260308T020000
END:DAYLIGHT
END:VTIMEZONE
BEGIN:VEVENT
UID:6f5a4d55-75f5-456d-bad7-c986204ad9f1
DTSTAMP:20260424T002702Z
DESCRIPTION:
DTSTART;TZID=America/Chicago:20250308T090000
DTEND;TZID=America/Chicago:20250308T110000
LOCATION:Lincoln Ikes Rifle Range 4
SUMMARY:CMP Rimfire Sporter Rifle (Range 4)
END:VEVENT
END:VCALENDAR
