BEGIN:VCALENDAR
VERSION:2.0
PRODID:-//lincolnikes.com//NONSGML kigkonsult.se iCalcreator 2.30.10//
CALSCALE:GREGORIAN
METHOD:PUBLISH
UID:23522e56-96f3-4c32-bc9c-4d668ee95273
X-WR-CALDESC:
X-WR-RELCALID:6c7e2109d1e5f677affffb5d8070a6fc
X-WR-TIMEZONE:America/Chicago
BEGIN:VTIMEZONE
TZID:America/Chicago
BEGIN:STANDARD
TZNAME:CST
DTSTART:20241103T020000
TZOFFSETFROM:-0500
TZOFFSETTO:-0600
RDATE:20251102T020000
END:STANDARD
BEGIN:DAYLIGHT
TZNAME:CDT
DTSTART:20250309T020000
TZOFFSETFROM:-0600
TZOFFSETTO:-0500
RDATE:20260308T020000
END:DAYLIGHT
END:VTIMEZONE
BEGIN:VEVENT
UID:3de93be6-9441-4685-934c-2db26cdaf8f3
DTSTAMP:20260423T230451Z
DESCRIPTION:
DTSTART;TZID=America/Chicago:20250405T090000
DTEND;TZID=America/Chicago:20250405T130000
LOCATION:Lincoln Ikes Rifle Range 4
SUMMARY:Club Benchrest 300-Yard (Range 4)
END:VEVENT
END:VCALENDAR
