BEGIN:VCALENDAR
VERSION:2.0
PRODID:-//lincolnikes.com//NONSGML kigkonsult.se iCalcreator 2.30.10//
CALSCALE:GREGORIAN
METHOD:PUBLISH
UID:7c44ec3d-999d-4a7a-8c0c-236c7b9c0adf
X-WR-CALDESC:
X-WR-RELCALID:7a16f37d9841af6a9bbcac1822ae1791
X-WR-TIMEZONE:America/Chicago
BEGIN:VTIMEZONE
TZID:America/Chicago
BEGIN:STANDARD
TZNAME:CST
DTSTART:20241103T020000
TZOFFSETFROM:-0500
TZOFFSETTO:-0600
RDATE:20251102T020000
END:STANDARD
BEGIN:DAYLIGHT
TZNAME:CDT
DTSTART:20250309T020000
TZOFFSETFROM:-0600
TZOFFSETTO:-0500
RDATE:20260308T020000
END:DAYLIGHT
END:VTIMEZONE
BEGIN:VEVENT
UID:19e22254-615b-4440-9cc4-f7e649b1ef64
DTSTAMP:20260423T224159Z
DESCRIPTION:
DTSTART;TZID=America/Chicago:20250412T113000
DTEND;TZID=America/Chicago:20250412T180000
LOCATION:Lincoln Ikes Rifle Range 4
SUMMARY:Range 4 Closed
END:VEVENT
END:VCALENDAR
