BEGIN:VCALENDAR
VERSION:2.0
PRODID:-//lincolnikes.com//NONSGML kigkonsult.se iCalcreator 2.30.10//
CALSCALE:GREGORIAN
METHOD:PUBLISH
UID:48c8043b-6f03-43d0-aee9-686726670858
X-WR-CALDESC:
X-WR-RELCALID:c2c9585a48b93a1f0a858665bc28a8a2
X-WR-TIMEZONE:America/Chicago
BEGIN:VTIMEZONE
TZID:America/Chicago
BEGIN:STANDARD
TZNAME:CST
DTSTART:20241103T020000
TZOFFSETFROM:-0500
TZOFFSETTO:-0600
RDATE:20251102T020000
END:STANDARD
BEGIN:DAYLIGHT
TZNAME:CDT
DTSTART:20250309T020000
TZOFFSETFROM:-0600
TZOFFSETTO:-0500
RDATE:20260308T020000
END:DAYLIGHT
END:VTIMEZONE
BEGIN:VEVENT
UID:114fcbf8-cfd2-4aca-835d-98fd904ab24d
DTSTAMP:20260423T224301Z
DESCRIPTION:
DTSTART;TZID=America/Chicago:20250413T130000
DTEND;TZID=America/Chicago:20250413T170000
LOCATION:Lincoln Ikes Rifle/Pistol Range 4
SUMMARY:IHMSA Handgun Match (Range 4)
END:VEVENT
END:VCALENDAR
