BEGIN:VCALENDAR
VERSION:2.0
PRODID:-//lincolnikes.com//NONSGML kigkonsult.se iCalcreator 2.30.10//
CALSCALE:GREGORIAN
METHOD:PUBLISH
UID:10b93544-7e9e-4d9c-8195-9a69a59c58b7
X-WR-CALDESC:
X-WR-RELCALID:57777a4ca67083e377991db8687900c0
X-WR-TIMEZONE:America/Chicago
BEGIN:VTIMEZONE
TZID:America/Chicago
BEGIN:STANDARD
TZNAME:CST
DTSTART:20241103T020000
TZOFFSETFROM:-0500
TZOFFSETTO:-0600
RDATE:20251102T020000
END:STANDARD
BEGIN:DAYLIGHT
TZNAME:CDT
DTSTART:20250309T020000
TZOFFSETFROM:-0600
TZOFFSETTO:-0500
RDATE:20260308T020000
END:DAYLIGHT
END:VTIMEZONE
BEGIN:VEVENT
UID:d1add641-8cb9-4850-85a4-e6eecadba9bf
DTSTAMP:20260423T230252Z
DESCRIPTION:
DTSTART;TZID=America/Chicago:20250419T090000
DTEND;TZID=America/Chicago:20250419T140000
LOCATION:Lincoln Ikes Rifle Range 4
SUMMARY:Bowling Pin Match (Range 4)
END:VEVENT
END:VCALENDAR
