BEGIN:VCALENDAR
VERSION:2.0
PRODID:-//lincolnikes.com//NONSGML kigkonsult.se iCalcreator 2.30.10//
CALSCALE:GREGORIAN
METHOD:PUBLISH
UID:d944ca4f-2cef-4f11-8c09-73bfecd4984f
X-WR-CALDESC:
X-WR-RELCALID:4f94e24f9b84b896979de3f8ea3a11e3
X-WR-TIMEZONE:America/Chicago
BEGIN:VTIMEZONE
TZID:America/Chicago
BEGIN:STANDARD
TZNAME:CST
DTSTART:20241103T020000
TZOFFSETFROM:-0500
TZOFFSETTO:-0600
RDATE:20251102T020000
END:STANDARD
BEGIN:DAYLIGHT
TZNAME:CDT
DTSTART:20250309T020000
TZOFFSETFROM:-0600
TZOFFSETTO:-0500
RDATE:20260308T020000
END:DAYLIGHT
END:VTIMEZONE
BEGIN:VEVENT
UID:7a30b8f4-5739-468e-9f0f-a0aaf87c97a4
DTSTAMP:20260423T224358Z
DESCRIPTION:
DTSTART;TZID=America/Chicago:20250424T050000
DTEND;TZID=America/Chicago:20250424T050001
LOCATION:Pistol Range 3
SUMMARY:Range 3 Now Open to R/P Members
END:VEVENT
END:VCALENDAR
