BEGIN:VCALENDAR
VERSION:2.0
PRODID:-//lincolnikes.com//NONSGML kigkonsult.se iCalcreator 2.30.10//
CALSCALE:GREGORIAN
METHOD:PUBLISH
UID:9578e247-1990-4a6c-b662-a00d613148b0
X-WR-CALDESC:
X-WR-RELCALID:d9f8dbaab61cb297decd8bebd9eec0ea
X-WR-TIMEZONE:America/Chicago
BEGIN:VTIMEZONE
TZID:America/Chicago
BEGIN:STANDARD
TZNAME:CST
DTSTART:20241103T020000
TZOFFSETFROM:-0500
TZOFFSETTO:-0600
RDATE:20251102T020000
END:STANDARD
BEGIN:DAYLIGHT
TZNAME:CDT
DTSTART:20250309T020000
TZOFFSETFROM:-0600
TZOFFSETTO:-0500
RDATE:20260308T020000
END:DAYLIGHT
END:VTIMEZONE
BEGIN:VEVENT
UID:175befbe-5938-43c4-85b5-244c41a1adcd
DTSTAMP:20260423T225305Z
DESCRIPTION:
DTSTART;TZID=America/Chicago:20250425T050000
DTEND;TZID=America/Chicago:20250425T050001
LOCATION:Lincoln Ikes Rifle Range 4
SUMMARY:NBRSA Range Set Up Day (Range 4)
END:VEVENT
END:VCALENDAR
