BEGIN:VCALENDAR
VERSION:2.0
PRODID:-//lincolnikes.com//NONSGML kigkonsult.se iCalcreator 2.30.10//
CALSCALE:GREGORIAN
METHOD:PUBLISH
UID:50f0ed81-be74-481b-bc86-febdca19d9ea
X-WR-CALDESC:
X-WR-RELCALID:372f3ad04cf8222dfe68ed2a2c5fcb0f
X-WR-TIMEZONE:America/Chicago
BEGIN:VTIMEZONE
TZID:America/Chicago
BEGIN:STANDARD
TZNAME:CST
DTSTART:20241103T020000
TZOFFSETFROM:-0500
TZOFFSETTO:-0600
RDATE:20251102T020000
END:STANDARD
BEGIN:DAYLIGHT
TZNAME:CDT
DTSTART:20250309T020000
TZOFFSETFROM:-0600
TZOFFSETTO:-0500
RDATE:20260308T020000
END:DAYLIGHT
END:VTIMEZONE
BEGIN:VEVENT
UID:4ce6cc0b-b9e4-47ef-9e2e-41ac51ca8a8f
DTSTAMP:20260423T224608Z
DESCRIPTION:
DTSTART;TZID=America/Chicago:20250426T050000
DTEND;TZID=America/Chicago:20250426T050001
LOCATION:Lincoln Ikes Rifle Range 4
SUMMARY:NBRSA Benchrest Match (Range 4)
END:VEVENT
END:VCALENDAR
