BEGIN:VCALENDAR
VERSION:2.0
PRODID:-//lincolnikes.com//NONSGML kigkonsult.se iCalcreator 2.30.10//
CALSCALE:GREGORIAN
METHOD:PUBLISH
UID:ecf379c9-8f42-4327-9e1a-1cbe29f8e8a0
X-WR-CALDESC:
X-WR-RELCALID:d734fe9b6ca705b5a157366dbaa301d9
X-WR-TIMEZONE:America/Chicago
BEGIN:VTIMEZONE
TZID:America/Chicago
BEGIN:STANDARD
TZNAME:CST
DTSTART:20241103T020000
TZOFFSETFROM:-0500
TZOFFSETTO:-0600
RDATE:20251102T020000
END:STANDARD
BEGIN:DAYLIGHT
TZNAME:CDT
DTSTART:20250309T020000
TZOFFSETFROM:-0600
TZOFFSETTO:-0500
RDATE:20260308T020000
END:DAYLIGHT
END:VTIMEZONE
BEGIN:VEVENT
UID:cc706d3d-0aa9-40d4-8b96-fd55a3756c13
DTSTAMP:20260423T224505Z
DESCRIPTION:
DTSTART;TZID=America/Chicago:20250426T050000
DTEND;TZID=America/Chicago:20250426T050001
LOCATION:Lincoln Ikes Rifle Range 1
SUMMARY:Project Appleseed (Range 1)
END:VEVENT
END:VCALENDAR
