BEGIN:VCALENDAR
VERSION:2.0
PRODID:-//lincolnikes.com//NONSGML kigkonsult.se iCalcreator 2.30.10//
CALSCALE:GREGORIAN
METHOD:PUBLISH
UID:6c5bb301-ff7a-440f-9b6f-0aa6efdda0d1
X-WR-CALDESC:
X-WR-RELCALID:3438cab2901024e7045871caffc2caf2
X-WR-TIMEZONE:America/Chicago
BEGIN:VTIMEZONE
TZID:America/Chicago
BEGIN:STANDARD
TZNAME:CST
DTSTART:20241103T020000
TZOFFSETFROM:-0500
TZOFFSETTO:-0600
RDATE:20251102T020000
RDATE:20261101T020000
END:STANDARD
BEGIN:DAYLIGHT
TZNAME:CDT
DTSTART:20250309T020000
TZOFFSETFROM:-0600
TZOFFSETTO:-0500
RDATE:20260308T020000
END:DAYLIGHT
END:VTIMEZONE
BEGIN:VEVENT
UID:fbd7d3b0-0203-499e-adb6-b0d553c93d34
DTSTAMP:20260423T212740Z
DESCRIPTION:
DTSTART;TZID=America/Chicago:20250506T120000
DTEND;TZID=America/Chicago:20250506T130000
LOCATION:Lincoln Ikes Clubhouse
SUMMARY:Archery Committee Meeting (Clubhouse)
END:VEVENT
END:VCALENDAR
