BEGIN:VCALENDAR
VERSION:2.0
PRODID:-//lincolnikes.com//NONSGML kigkonsult.se iCalcreator 2.30.10//
CALSCALE:GREGORIAN
METHOD:PUBLISH
UID:71a939f8-0df9-4bc0-9209-c2569b92d8ac
X-WR-CALDESC:
X-WR-RELCALID:c939693b9fc069a666d537aa90822022
X-WR-TIMEZONE:America/Chicago
BEGIN:VTIMEZONE
TZID:America/Chicago
BEGIN:STANDARD
TZNAME:CST
DTSTART:20241103T020000
TZOFFSETFROM:-0500
TZOFFSETTO:-0600
RDATE:20251102T020000
RDATE:20261101T020000
END:STANDARD
BEGIN:DAYLIGHT
TZNAME:CDT
DTSTART:20250309T020000
TZOFFSETFROM:-0600
TZOFFSETTO:-0500
RDATE:20260308T020000
END:DAYLIGHT
END:VTIMEZONE
BEGIN:VEVENT
UID:55d92e0b-405b-417b-85b1-b8d13a4b0a90
DTSTAMP:20260423T211424Z
DESCRIPTION:
DTSTART;TZID=America/Chicago:20250510T120000
DTEND;TZID=America/Chicago:20250510T200000
LOCATION:Lincoln Ikes Rifle/Pistol Range 4
SUMMARY:Action Pistol Match shot under CMP Rules (Range 4)
END:VEVENT
END:VCALENDAR
