BEGIN:VCALENDAR
VERSION:2.0
PRODID:-//lincolnikes.com//NONSGML kigkonsult.se iCalcreator 2.30.10//
CALSCALE:GREGORIAN
METHOD:PUBLISH
UID:bed7c003-ca3e-4823-a3c2-b99ae4d89881
X-WR-CALDESC:
X-WR-RELCALID:330eeb96676a08c5216be04b97488f40
X-WR-TIMEZONE:America/Chicago
BEGIN:VTIMEZONE
TZID:America/Chicago
BEGIN:STANDARD
TZNAME:CST
DTSTART:20241103T020000
TZOFFSETFROM:-0500
TZOFFSETTO:-0600
RDATE:20251102T020000
RDATE:20261101T020000
END:STANDARD
BEGIN:DAYLIGHT
TZNAME:CDT
DTSTART:20250309T020000
TZOFFSETFROM:-0600
TZOFFSETTO:-0500
RDATE:20260308T020000
END:DAYLIGHT
END:VTIMEZONE
BEGIN:VEVENT
UID:d7baf627-8f91-4080-89c1-1535c88e00bb
DTSTAMP:20260423T212130Z
DESCRIPTION:
DTSTART;TZID=America/Chicago:20250514T050000
DTEND;TZID=America/Chicago:20250514T050001
LOCATION:Lincoln Ikes Pistol Range 3
SUMMARY:Pistol Range 3 Now Open (after today's maintenance)
END:VEVENT
END:VCALENDAR
