BEGIN:VCALENDAR
VERSION:2.0
PRODID:-//lincolnikes.com//NONSGML kigkonsult.se iCalcreator 2.30.10//
CALSCALE:GREGORIAN
METHOD:PUBLISH
UID:c00387e6-7547-491d-a19f-6f4e3198de05
X-WR-CALDESC:
X-WR-RELCALID:e396ecb1db023671492a8bbf3475460b
X-WR-TIMEZONE:America/Chicago
BEGIN:VTIMEZONE
TZID:America/Chicago
BEGIN:STANDARD
TZNAME:CST
DTSTART:20241103T020000
TZOFFSETFROM:-0500
TZOFFSETTO:-0600
RDATE:20251102T020000
RDATE:20261101T020000
END:STANDARD
BEGIN:DAYLIGHT
TZNAME:CDT
DTSTART:20250309T020000
TZOFFSETFROM:-0600
TZOFFSETTO:-0500
RDATE:20260308T020000
END:DAYLIGHT
END:VTIMEZONE
BEGIN:VEVENT
UID:a7c0df52-2d11-42c8-b206-9213146de319
DTSTAMP:20260423T212037Z
DESCRIPTION:
DTSTART;TZID=America/Chicago:20250515T070000
DTEND;TZID=America/Chicago:20250515T120000
LOCATION:Lincoln Ikes Pistol Range 3
SUMMARY:Pistol Range 3 Closed for Maintenance
END:VEVENT
END:VCALENDAR
