BEGIN:VCALENDAR
VERSION:2.0
PRODID:-//lincolnikes.com//NONSGML kigkonsult.se iCalcreator 2.30.10//
CALSCALE:GREGORIAN
METHOD:PUBLISH
UID:7b0861f5-995a-47bb-8ee0-fb9f5f4f15e8
X-WR-CALDESC:
X-WR-RELCALID:05ff90665708c159f2d6f7de53535d45
X-WR-TIMEZONE:America/Chicago
BEGIN:VTIMEZONE
TZID:America/Chicago
BEGIN:STANDARD
TZNAME:CST
DTSTART:20241103T020000
TZOFFSETFROM:-0500
TZOFFSETTO:-0600
RDATE:20251102T020000
RDATE:20261101T020000
END:STANDARD
BEGIN:DAYLIGHT
TZNAME:CDT
DTSTART:20250309T020000
TZOFFSETFROM:-0600
TZOFFSETTO:-0500
RDATE:20260308T020000
END:DAYLIGHT
END:VTIMEZONE
BEGIN:VEVENT
UID:d5a7558e-fc28-4c15-aff9-c03124315715
DTSTAMP:20260423T212217Z
DESCRIPTION:
DTSTART;TZID=America/Chicago:20250516T070000
DTEND;TZID=America/Chicago:20250516T200000
LOCATION:Lincoln Ikes Pistol Range 3
SUMMARY:Pistol Range 3 Now Available to our Current R/P Members
END:VEVENT
END:VCALENDAR
