BEGIN:VCALENDAR
VERSION:2.0
PRODID:-//lincolnikes.com//NONSGML kigkonsult.se iCalcreator 2.30.10//
CALSCALE:GREGORIAN
METHOD:PUBLISH
UID:c87d55ea-1e84-4ea2-b22f-2ff963de6b02
X-WR-CALDESC:
X-WR-RELCALID:041d5bc84b8f28498d7f19b1c825b96f
X-WR-TIMEZONE:America/Chicago
BEGIN:VTIMEZONE
TZID:America/Chicago
BEGIN:STANDARD
TZNAME:CST
DTSTART:20241103T020000
TZOFFSETFROM:-0500
TZOFFSETTO:-0600
RDATE:20251102T020000
RDATE:20261101T020000
END:STANDARD
BEGIN:DAYLIGHT
TZNAME:CDT
DTSTART:20250309T020000
TZOFFSETFROM:-0600
TZOFFSETTO:-0500
RDATE:20260308T020000
END:DAYLIGHT
END:VTIMEZONE
BEGIN:VEVENT
UID:025b43e2-ba9e-4910-88e0-13eec17b3128
DTSTAMP:20260423T210522Z
DESCRIPTION:
DTSTART;TZID=America/Chicago:20250518T070000
DTEND;TZID=America/Chicago:20250518T150000
LOCATION:Rifle Range 2
SUMMARY:ARA Match (Range 2)
END:VEVENT
END:VCALENDAR
