BEGIN:VCALENDAR
VERSION:2.0
PRODID:-//lincolnikes.com//NONSGML kigkonsult.se iCalcreator 2.30.10//
CALSCALE:GREGORIAN
METHOD:PUBLISH
UID:e3fd2a5b-da9c-4571-895a-b849b3afbc4f
X-WR-CALDESC:
X-WR-RELCALID:ce0eaadeea3dccade6a37fe7c3663bdd
X-WR-TIMEZONE:America/Chicago
BEGIN:VTIMEZONE
TZID:America/Chicago
BEGIN:STANDARD
TZNAME:CST
DTSTART:20241103T020000
TZOFFSETFROM:-0500
TZOFFSETTO:-0600
RDATE:20251102T020000
RDATE:20261101T020000
END:STANDARD
BEGIN:DAYLIGHT
TZNAME:CDT
DTSTART:20250309T020000
TZOFFSETFROM:-0600
TZOFFSETTO:-0500
RDATE:20260308T020000
END:DAYLIGHT
END:VTIMEZONE
BEGIN:VEVENT
UID:3fc467d2-20e0-4cf5-aa96-74f47636df87
DTSTAMP:20260423T210945Z
DESCRIPTION:
DTSTART;TZID=America/Chicago:20250521T070000
DTEND;TZID=America/Chicago:20250521T093000
LOCATION:Lincoln Ikes Pistol Range 3
SUMMARY:7a-9:30a: Pistol Range 3 Closed for Maintenance
END:VEVENT
END:VCALENDAR
