BEGIN:VCALENDAR
VERSION:2.0
PRODID:-//lincolnikes.com//NONSGML kigkonsult.se iCalcreator 2.30.10//
CALSCALE:GREGORIAN
METHOD:PUBLISH
UID:fd7ef8ed-7e9a-493c-a528-14f4cf380842
X-WR-CALDESC:*Weather permitting. If we should have some inclement weather\
 , this practice time will be canceled. Feel free to call RSO Hanson to ver
 ify.
X-WR-RELCALID:766035a10440235706659bf6ad6877e1
X-WR-TIMEZONE:America/Chicago
BEGIN:VTIMEZONE
TZID:America/Chicago
BEGIN:STANDARD
TZNAME:CST
DTSTART:20241103T020000
TZOFFSETFROM:-0500
TZOFFSETTO:-0600
RDATE:20251102T020000
RDATE:20261101T020000
END:STANDARD
BEGIN:DAYLIGHT
TZNAME:CDT
DTSTART:20250309T020000
TZOFFSETFROM:-0600
TZOFFSETTO:-0500
RDATE:20260308T020000
END:DAYLIGHT
END:VTIMEZONE
BEGIN:VEVENT
UID:054bae66-2769-4787-aab8-db0562820eb5
DTSTAMP:20260423T210904Z
DESCRIPTION:*Weather permitting. If we should have some inclement weather\,
  this practice time will be canceled. Feel free to call RSO Hanson to veri
 fy.
DTSTART;TZID=America/Chicago:20250522T100000
DTEND;TZID=America/Chicago:20250522T120000
LOCATION:Lincoln Ikes Rifle Range 4
SUMMARY:Range 4 Members Practice (Lunzmann)
END:VEVENT
END:VCALENDAR
