BEGIN:VCALENDAR
VERSION:2.0
PRODID:-//lincolnikes.com//NONSGML kigkonsult.se iCalcreator 2.30.10//
CALSCALE:GREGORIAN
METHOD:PUBLISH
UID:2903465c-e193-4cb7-9eda-3b4773814acf
X-WR-CALDESC:
X-WR-RELCALID:b366ade09eb60fb8c066b28fd9a5e65c
X-WR-TIMEZONE:America/Chicago
BEGIN:VTIMEZONE
TZID:America/Chicago
BEGIN:STANDARD
TZNAME:CST
DTSTART:20241103T020000
TZOFFSETFROM:-0500
TZOFFSETTO:-0600
RDATE:20251102T020000
RDATE:20261101T020000
END:STANDARD
BEGIN:DAYLIGHT
TZNAME:CDT
DTSTART:20250309T020000
TZOFFSETFROM:-0600
TZOFFSETTO:-0500
RDATE:20260308T020000
END:DAYLIGHT
END:VTIMEZONE
BEGIN:VEVENT
UID:f652a000-87c5-4f05-8f9a-1cb9f7f59ea8
DTSTAMP:20260423T211134Z
DESCRIPTION:
DTSTART;TZID=America/Chicago:20250528T170000
DTEND;TZID=America/Chicago:20250528T190000
LOCATION:Lincoln Ikes Rifle Range 4 & CRP Area
SUMMARY:Rifle Range 4 & CRP Area Closed for Training Activities
END:VEVENT
END:VCALENDAR
