BEGIN:VCALENDAR
VERSION:2.0
PRODID:-//lincolnikes.com//NONSGML kigkonsult.se iCalcreator 2.30.10//
CALSCALE:GREGORIAN
METHOD:PUBLISH
UID:42c28014-666d-411c-8f93-62c4cbed9276
X-WR-CALDESC:
X-WR-RELCALID:b6e180d0933e4df3622a86cc35eb907e
X-WR-TIMEZONE:America/Chicago
BEGIN:VTIMEZONE
TZID:America/Chicago
BEGIN:STANDARD
TZNAME:CST
DTSTART:20241103T020000
TZOFFSETFROM:-0500
TZOFFSETTO:-0600
RDATE:20251102T020000
RDATE:20261101T020000
END:STANDARD
BEGIN:DAYLIGHT
TZNAME:CDT
DTSTART:20250309T020000
TZOFFSETFROM:-0600
TZOFFSETTO:-0500
RDATE:20260308T020000
END:DAYLIGHT
END:VTIMEZONE
BEGIN:VEVENT
UID:6770ff95-7076-4ec9-adac-08c60a4efbb1
DTSTAMP:20260423T194357Z
DESCRIPTION:
DTSTART;TZID=America/Chicago:20250603T120000
DTEND;TZID=America/Chicago:20250603T130000
LOCATION:Lincoln Ikes Clubhouse
SUMMARY:Archery Committee Meeting (Clubhouse)
END:VEVENT
END:VCALENDAR
