BEGIN:VCALENDAR
VERSION:2.0
PRODID:-//lincolnikes.com//NONSGML kigkonsult.se iCalcreator 2.30.10//
CALSCALE:GREGORIAN
METHOD:PUBLISH
UID:4d2e5d27-5ef2-4948-8288-da6be8923d9b
X-WR-CALDESC:*Weather permitting. If we should have some inclement weather\
 , this practice time will be canceled. Feel free to call RSO Dewey to veri
 fy.
X-WR-RELCALID:5bd2abece3af5a318e50f9bc0aa25869
X-WR-TIMEZONE:America/Chicago
BEGIN:VTIMEZONE
TZID:America/Chicago
BEGIN:STANDARD
TZNAME:CST
DTSTART:20241103T020000
TZOFFSETFROM:-0500
TZOFFSETTO:-0600
RDATE:20251102T020000
RDATE:20261101T020000
END:STANDARD
BEGIN:DAYLIGHT
TZNAME:CDT
DTSTART:20250309T020000
TZOFFSETFROM:-0600
TZOFFSETTO:-0500
RDATE:20260308T020000
END:DAYLIGHT
END:VTIMEZONE
BEGIN:VEVENT
UID:fbce24d5-637c-40e3-b464-39e25ece45ab
DTSTAMP:20260423T192540Z
DESCRIPTION:*Weather permitting. If we should have some inclement weather\,
  this practice time will be canceled. Feel free to call RSO Dewey to verif
 y.
DTSTART;TZID=America/Chicago:20250610T090000
DTEND;TZID=America/Chicago:20250610T130000
LOCATION:Lincoln Ikes Rifle Range 4
SUMMARY:Range 4 Members Practice (Dewey)
END:VEVENT
END:VCALENDAR
