BEGIN:VCALENDAR
VERSION:2.0
PRODID:-//lincolnikes.com//NONSGML kigkonsult.se iCalcreator 2.30.10//
CALSCALE:GREGORIAN
METHOD:PUBLISH
UID:8daef414-87a1-4a0c-bf53-0199761dbc15
X-WR-CALDESC:
X-WR-RELCALID:22cf36c0c7a2043bc27bbf447983cef7
X-WR-TIMEZONE:America/Chicago
BEGIN:VTIMEZONE
TZID:America/Chicago
BEGIN:STANDARD
TZNAME:CST
DTSTART:20241103T020000
TZOFFSETFROM:-0500
TZOFFSETTO:-0600
RDATE:20251102T020000
RDATE:20261101T020000
END:STANDARD
BEGIN:DAYLIGHT
TZNAME:CDT
DTSTART:20250309T020000
TZOFFSETFROM:-0600
TZOFFSETTO:-0500
RDATE:20260308T020000
END:DAYLIGHT
END:VTIMEZONE
BEGIN:VEVENT
UID:c12af005-d4b0-470b-88de-df387baf84b8
DTSTAMP:20260423T194411Z
DESCRIPTION:
DTSTART;TZID=America/Chicago:20250610T183000
DTEND;TZID=America/Chicago:20250610T191500
LOCATION:
SUMMARY:Corporate Board of Directors Meeting (Clubhouse)
END:VEVENT
END:VCALENDAR
