BEGIN:VCALENDAR
VERSION:2.0
PRODID:-//lincolnikes.com//NONSGML kigkonsult.se iCalcreator 2.30.10//
CALSCALE:GREGORIAN
METHOD:PUBLISH
UID:00556be5-cd26-415b-91a4-a97940a2c8ea
X-WR-CALDESC:*Weather permitting. If we should have some inclement weather\
 , this practice time will be canceled. Feel free to call RSO Bertram to ve
 rify.
X-WR-RELCALID:e64d60b2aa3ac8285491cbba735ad7fe
X-WR-TIMEZONE:America/Chicago
BEGIN:VTIMEZONE
TZID:America/Chicago
BEGIN:STANDARD
TZNAME:CST
DTSTART:20241103T020000
TZOFFSETFROM:-0500
TZOFFSETTO:-0600
RDATE:20251102T020000
RDATE:20261101T020000
END:STANDARD
BEGIN:DAYLIGHT
TZNAME:CDT
DTSTART:20250309T020000
TZOFFSETFROM:-0600
TZOFFSETTO:-0500
RDATE:20260308T020000
END:DAYLIGHT
END:VTIMEZONE
BEGIN:VEVENT
UID:037331fd-b901-4676-a944-935094551c64
DTSTAMP:20260423T192312Z
DESCRIPTION:*Weather permitting. If we should have some inclement weather\,
  this practice time will be canceled. Feel free to call RSO Bertram to ver
 ify.
DTSTART;TZID=America/Chicago:20250611T173000
DTEND;TZID=America/Chicago:20250611T205500
LOCATION:Rifle Range 4
SUMMARY:Range 4 Members Practice (Bertram)
END:VEVENT
END:VCALENDAR
