BEGIN:VCALENDAR
VERSION:2.0
PRODID:-//lincolnikes.com//NONSGML kigkonsult.se iCalcreator 2.30.10//
CALSCALE:GREGORIAN
METHOD:PUBLISH
UID:d59d4d12-af1e-4bbc-ba65-95aec87bde54
X-WR-CALDESC:
X-WR-RELCALID:8c3ba240bb69d2edb9b2acf01d355f25
X-WR-TIMEZONE:America/Chicago
BEGIN:VTIMEZONE
TZID:America/Chicago
BEGIN:STANDARD
TZNAME:CST
DTSTART:20241103T020000
TZOFFSETFROM:-0500
TZOFFSETTO:-0600
RDATE:20251102T020000
RDATE:20261101T020000
END:STANDARD
BEGIN:DAYLIGHT
TZNAME:CDT
DTSTART:20250309T020000
TZOFFSETFROM:-0600
TZOFFSETTO:-0500
RDATE:20260308T020000
END:DAYLIGHT
END:VTIMEZONE
BEGIN:VEVENT
UID:53862bf7-f60e-475f-b7b1-1f8b97ef9c27
DTSTAMP:20260423T192910Z
DESCRIPTION:
DTSTART;TZID=America/Chicago:20250614T120000
DTEND;TZID=America/Chicago:20250614T200000
LOCATION:Lincoln Ikes Rifle/Pistol Range 4
SUMMARY:Action Pistol Match shot under CMP Rules (Range 4)
END:VEVENT
END:VCALENDAR
