BEGIN:VCALENDAR
VERSION:2.0
PRODID:-//lincolnikes.com//NONSGML kigkonsult.se iCalcreator 2.30.10//
CALSCALE:GREGORIAN
METHOD:PUBLISH
UID:cfd7bf49-e332-45e1-89dd-05368b3eed1b
X-WR-CALDESC:
X-WR-RELCALID:cd0c650424eecc65af9b5155380820b1
X-WR-TIMEZONE:America/Chicago
BEGIN:VTIMEZONE
TZID:America/Chicago
BEGIN:STANDARD
TZNAME:CST
DTSTART:20241103T020000
TZOFFSETFROM:-0500
TZOFFSETTO:-0600
RDATE:20251102T020000
RDATE:20261101T020000
END:STANDARD
BEGIN:DAYLIGHT
TZNAME:CDT
DTSTART:20250309T020000
TZOFFSETFROM:-0600
TZOFFSETTO:-0500
RDATE:20260308T020000
END:DAYLIGHT
END:VTIMEZONE
BEGIN:VEVENT
UID:f65d8e2d-2d65-4c19-b2c3-c0e19ef6bec5
DTSTAMP:20260423T193524Z
DESCRIPTION:
DTSTART;TZID=America/Chicago:20250617T170000
DTEND;TZID=America/Chicago:20250617T190000
LOCATION:Lincoln Ikes Rifle Range 4
SUMMARY:Rifle Range 4 Closed for Training Activities
END:VEVENT
END:VCALENDAR
