BEGIN:VCALENDAR
VERSION:2.0
PRODID:-//lincolnikes.com//NONSGML kigkonsult.se iCalcreator 2.30.10//
CALSCALE:GREGORIAN
METHOD:PUBLISH
UID:3a75fc45-c741-45d5-a4d2-783c5f4dc82c
X-WR-CALDESC:
X-WR-RELCALID:1b15a48c61716a8810e538b7b674ae13
X-WR-TIMEZONE:America/Chicago
BEGIN:VTIMEZONE
TZID:America/Chicago
BEGIN:STANDARD
TZNAME:CST
DTSTART:20241103T020000
TZOFFSETFROM:-0500
TZOFFSETTO:-0600
RDATE:20251102T020000
RDATE:20261101T020000
END:STANDARD
BEGIN:DAYLIGHT
TZNAME:CDT
DTSTART:20250309T020000
TZOFFSETFROM:-0600
TZOFFSETTO:-0500
RDATE:20260308T020000
END:DAYLIGHT
END:VTIMEZONE
BEGIN:VEVENT
UID:4dee3023-3134-4bb3-9cfa-646c33e9fe63
DTSTAMP:20260423T192744Z
DESCRIPTION:
DTSTART;TZID=America/Chicago:20250618T170000
DTEND;TZID=America/Chicago:20250618T190000
LOCATION:Lincoln Ikes Rifle Range 4
SUMMARY:Rifle Range 4 Closed for Training Activities
END:VEVENT
END:VCALENDAR
