BEGIN:VCALENDAR
VERSION:2.0
PRODID:-//lincolnikes.com//NONSGML kigkonsult.se iCalcreator 2.30.10//
CALSCALE:GREGORIAN
METHOD:PUBLISH
UID:4060d8e7-8f9a-47fc-a292-05ccdfc362fc
X-WR-CALDESC:
X-WR-RELCALID:ac88029ec40973c1a897a893a6b96007
X-WR-TIMEZONE:America/Chicago
BEGIN:VTIMEZONE
TZID:America/Chicago
BEGIN:STANDARD
TZNAME:CST
DTSTART:20241103T020000
TZOFFSETFROM:-0500
TZOFFSETTO:-0600
RDATE:20251102T020000
RDATE:20261101T020000
END:STANDARD
BEGIN:DAYLIGHT
TZNAME:CDT
DTSTART:20250309T020000
TZOFFSETFROM:-0600
TZOFFSETTO:-0500
RDATE:20260308T020000
END:DAYLIGHT
END:VTIMEZONE
BEGIN:VEVENT
UID:5bb89033-524f-4308-88fa-e426613852c8
DTSTAMP:20260423T193726Z
DESCRIPTION:
DTSTART;TZID=America/Chicago:20250625T203000
DTEND;TZID=America/Chicago:20250625T210000
LOCATION:Lincoln Ikes Clubhouse
SUMMARY:Action Pistol Match Informational Meeting (Clubhouse)
END:VEVENT
END:VCALENDAR
