BEGIN:VCALENDAR
VERSION:2.0
PRODID:-//lincolnikes.com//NONSGML kigkonsult.se iCalcreator 2.30.10//
CALSCALE:GREGORIAN
METHOD:PUBLISH
UID:12df0209-c058-4f9b-9010-1b38589492d6
X-WR-CALDESC:*Weather permitting. If we should have some inclement weather\
 , this practice time will be canceled. Feel free to call RSO Keaschall to 
 verify.
X-WR-RELCALID:847ace0fe267e194ce3a7cac82f83f81
X-WR-TIMEZONE:America/Chicago
BEGIN:VTIMEZONE
TZID:America/Chicago
BEGIN:STANDARD
TZNAME:CST
DTSTART:20241103T020000
TZOFFSETFROM:-0500
TZOFFSETTO:-0600
RDATE:20251102T020000
RDATE:20261101T020000
END:STANDARD
BEGIN:DAYLIGHT
TZNAME:CDT
DTSTART:20250309T020000
TZOFFSETFROM:-0600
TZOFFSETTO:-0500
RDATE:20260308T020000
END:DAYLIGHT
END:VTIMEZONE
BEGIN:VEVENT
UID:f02ee8b4-67a0-48e4-b032-650d6a816b7c
DTSTAMP:20260423T192236Z
DESCRIPTION:*Weather permitting. If we should have some inclement weather\,
  this practice time will be canceled. Feel free to call RSO Keaschall to v
 erify.
DTSTART;TZID=America/Chicago:20250628T113000
DTEND;TZID=America/Chicago:20250628T133000
LOCATION:Rifle Range 4
SUMMARY:Range 4 Members Practice (Keaschall)
END:VEVENT
END:VCALENDAR
