BEGIN:VCALENDAR
VERSION:2.0
PRODID:-//lincolnikes.com//NONSGML kigkonsult.se iCalcreator 2.30.10//
CALSCALE:GREGORIAN
METHOD:PUBLISH
UID:4e0381ee-4c26-44a5-bc3f-4bd19c60a8ea
X-WR-CALDESC:
X-WR-RELCALID:69e91d52cf238e933c3559a5efdd355a
X-WR-TIMEZONE:America/Chicago
BEGIN:VTIMEZONE
TZID:America/Chicago
BEGIN:STANDARD
TZNAME:CST
DTSTART:20241103T020000
TZOFFSETFROM:-0500
TZOFFSETTO:-0600
RDATE:20251102T020000
RDATE:20261101T020000
END:STANDARD
BEGIN:DAYLIGHT
TZNAME:CDT
DTSTART:20250309T020000
TZOFFSETFROM:-0600
TZOFFSETTO:-0500
RDATE:20260308T020000
END:DAYLIGHT
END:VTIMEZONE
BEGIN:VEVENT
UID:cfff34f0-c492-43fa-8a98-1cd5a3c56a68
DTSTAMP:20260423T194203Z
DESCRIPTION:
DTSTART;TZID=America/Chicago:20250630T161500
DTEND;TZID=America/Chicago:20250630T170000
LOCATION:Lincoln Ikes Range 4 - 300-yard Berm or Clubhouse
SUMMARY:Action Pistol Match Informational Meeting (Range 4 - 300-yard Berm 
 or Clubhouse)
END:VEVENT
END:VCALENDAR
