BEGIN:VCALENDAR
VERSION:2.0
PRODID:-//lincolnikes.com//NONSGML kigkonsult.se iCalcreator 2.30.10//
CALSCALE:GREGORIAN
METHOD:PUBLISH
UID:735e8dcd-9d5f-4c81-b30f-b48806a869d2
X-WR-CALDESC:
X-WR-RELCALID:6cba0d06a268bd90d1bf97bf2026a5a4
X-WR-TIMEZONE:America/Chicago
BEGIN:VTIMEZONE
TZID:America/Chicago
BEGIN:STANDARD
TZNAME:CST
DTSTART:20241103T020000
TZOFFSETFROM:-0500
TZOFFSETTO:-0600
RDATE:20251102T020000
RDATE:20261101T020000
END:STANDARD
BEGIN:DAYLIGHT
TZNAME:CDT
DTSTART:20250309T020000
TZOFFSETFROM:-0600
TZOFFSETTO:-0500
RDATE:20260308T020000
END:DAYLIGHT
END:VTIMEZONE
BEGIN:VEVENT
UID:cae970fb-1235-4fac-808d-0b9340283320
DTSTAMP:20260423T194218Z
DESCRIPTION:
DTSTART;TZID=America/Chicago:20250630T203000
DTEND;TZID=America/Chicago:20250630T210000
LOCATION:Lincoln Ikes Range 4 - 300-yard Berm or Clubhouse
SUMMARY:Action Pistol Match Informational Meeting (Range 4 - 300-yard Berm 
 or Clubhouse)
END:VEVENT
END:VCALENDAR
