BEGIN:VCALENDAR
VERSION:2.0
PRODID:-//lincolnikes.com//NONSGML kigkonsult.se iCalcreator 2.30.10//
CALSCALE:GREGORIAN
METHOD:PUBLISH
UID:9ea5d5d1-eea3-4683-bea8-fa69de39dcd6
X-WR-CALDESC:
X-WR-RELCALID:e3ca34db6c7dcdbb031205d86cad4924
X-WR-TIMEZONE:America/Chicago
BEGIN:VTIMEZONE
TZID:America/Chicago
BEGIN:STANDARD
TZNAME:CST
DTSTART:20241103T020000
TZOFFSETFROM:-0500
TZOFFSETTO:-0600
RDATE:20251102T020000
RDATE:20261101T020000
END:STANDARD
BEGIN:DAYLIGHT
TZNAME:CDT
DTSTART:20250309T020000
TZOFFSETFROM:-0600
TZOFFSETTO:-0500
RDATE:20260308T020000
END:DAYLIGHT
END:VTIMEZONE
BEGIN:VEVENT
UID:1e334c49-edc0-4d66-98b5-37cb762f7849
DTSTAMP:20260423T180146Z
DESCRIPTION:
DTSTART;TZID=America/Chicago:20250701T120000
DTEND;TZID=America/Chicago:20250701T130000
LOCATION:Lincoln Ikes Clubhouse
SUMMARY:Archery Committee Meeting (Clubhouse)
END:VEVENT
END:VCALENDAR
