BEGIN:VCALENDAR
VERSION:2.0
PRODID:-//lincolnikes.com//NONSGML kigkonsult.se iCalcreator 2.30.10//
CALSCALE:GREGORIAN
METHOD:PUBLISH
UID:a69c23ca-f510-4ba8-a1b6-c0013b2a5073
X-WR-CALDESC:(Pond & Walking Trail closed during ATA Shoot)
X-WR-RELCALID:b6f07986224148bdf0a69baea02e7031
X-WR-TIMEZONE:America/Chicago
BEGIN:VTIMEZONE
TZID:America/Chicago
BEGIN:STANDARD
TZNAME:CST
DTSTART:20241103T020000
TZOFFSETFROM:-0500
TZOFFSETTO:-0600
RDATE:20251102T020000
RDATE:20261101T020000
END:STANDARD
BEGIN:DAYLIGHT
TZNAME:CDT
DTSTART:20250309T020000
TZOFFSETFROM:-0600
TZOFFSETTO:-0500
RDATE:20260308T020000
END:DAYLIGHT
END:VTIMEZONE
BEGIN:VEVENT
UID:318c3892-86ce-4694-b706-ca71b6e77dc7
DTSTAMP:20260423T175625Z
DESCRIPTION:(Pond & Walking Trail closed during ATA Shoot)
DTSTART;TZID=America/Chicago:20250704T050000
DTEND;TZID=America/Chicago:20250704T050001
LOCATION:10801 South 134th Street\, Bennet\, NE 68317 US
SUMMARY:Independence Day ATA Trap Shoot (Clubhouse & Trap Range)
END:VEVENT
END:VCALENDAR
