BEGIN:VCALENDAR
VERSION:2.0
PRODID:-//lincolnikes.com//NONSGML kigkonsult.se iCalcreator 2.30.10//
CALSCALE:GREGORIAN
METHOD:PUBLISH
UID:e471fe41-3416-4625-b7b3-ce7398c74b7b
X-WR-CALDESC:
X-WR-RELCALID:6e033e9d20a233086dbe1fe4264a240b
X-WR-TIMEZONE:America/Chicago
BEGIN:VTIMEZONE
TZID:America/Chicago
BEGIN:STANDARD
TZNAME:CST
DTSTART:20241103T020000
TZOFFSETFROM:-0500
TZOFFSETTO:-0600
RDATE:20251102T020000
RDATE:20261101T020000
END:STANDARD
BEGIN:DAYLIGHT
TZNAME:CDT
DTSTART:20250309T020000
TZOFFSETFROM:-0600
TZOFFSETTO:-0500
RDATE:20260308T020000
END:DAYLIGHT
END:VTIMEZONE
BEGIN:VEVENT
UID:c249097c-6832-4d4e-af81-c46e3a918995
DTSTAMP:20260423T175610Z
DESCRIPTION:
DTSTART;TZID=America/Chicago:20250705T090000
DTEND;TZID=America/Chicago:20250705T130000
LOCATION:Lincoln Ikes Rifle Range 4
SUMMARY:Club Benchrest 300-Yard (Range 4)
END:VEVENT
END:VCALENDAR
