BEGIN:VCALENDAR
VERSION:2.0
PRODID:-//lincolnikes.com//NONSGML kigkonsult.se iCalcreator 2.30.10//
CALSCALE:GREGORIAN
METHOD:PUBLISH
UID:7efaa715-3523-481f-b26f-6b164a8a7cbc
X-WR-CALDESC:
X-WR-RELCALID:c6a97ca3a0a2b5b828450b902857af8d
X-WR-TIMEZONE:America/Chicago
BEGIN:VTIMEZONE
TZID:America/Chicago
BEGIN:STANDARD
TZNAME:CST
DTSTART:20241103T020000
TZOFFSETFROM:-0500
TZOFFSETTO:-0600
RDATE:20251102T020000
RDATE:20261101T020000
END:STANDARD
BEGIN:DAYLIGHT
TZNAME:CDT
DTSTART:20250309T020000
TZOFFSETFROM:-0600
TZOFFSETTO:-0500
RDATE:20260308T020000
END:DAYLIGHT
END:VTIMEZONE
BEGIN:VEVENT
UID:653e6eb6-c33e-46dd-b672-8c1f668da26a
DTSTAMP:20260423T180105Z
DESCRIPTION:
DTSTART;TZID=America/Chicago:20250709T163000
DTEND;TZID=America/Chicago:20250709T233000
LOCATION:Lincoln Ikes Trap Range
SUMMARY:Trap Range Closed from 4:30 p.m. for the rest of the day for mainte
 nance
END:VEVENT
END:VCALENDAR
