BEGIN:VCALENDAR
VERSION:2.0
PRODID:-//lincolnikes.com//NONSGML kigkonsult.se iCalcreator 2.30.10//
CALSCALE:GREGORIAN
METHOD:PUBLISH
UID:2960d481-c576-4ac6-965f-52f95cb50659
X-WR-CALDESC:
X-WR-RELCALID:499cfa8fb3c28d4c74fecf4d0fb1a2fa
X-WR-TIMEZONE:America/Chicago
BEGIN:VTIMEZONE
TZID:America/Chicago
BEGIN:STANDARD
TZNAME:CST
DTSTART:20241103T020000
TZOFFSETFROM:-0500
TZOFFSETTO:-0600
RDATE:20251102T020000
RDATE:20261101T020000
END:STANDARD
BEGIN:DAYLIGHT
TZNAME:CDT
DTSTART:20250309T020000
TZOFFSETFROM:-0600
TZOFFSETTO:-0500
RDATE:20260308T020000
END:DAYLIGHT
END:VTIMEZONE
BEGIN:VEVENT
UID:c09a3f77-7663-4ae2-b12a-d44373e1168d
DTSTAMP:20260423T175712Z
DESCRIPTION:
DTSTART;TZID=America/Chicago:20250712T090000
DTEND;TZID=America/Chicago:20250712T110000
LOCATION:Lincoln Ikes Rifle Range 4
SUMMARY:.22 Rimfire Sporter Rifle Match shot under CMP Rules (Range 4)
END:VEVENT
END:VCALENDAR
