BEGIN:VCALENDAR
VERSION:2.0
PRODID:-//lincolnikes.com//NONSGML kigkonsult.se iCalcreator 2.30.10//
CALSCALE:GREGORIAN
METHOD:PUBLISH
UID:b88edf8f-7eef-4a57-93d3-72c99ef50573
X-WR-CALDESC:
X-WR-RELCALID:cfcc3fdcf7b6fbbe67e103b71ab86198
X-WR-TIMEZONE:America/Chicago
BEGIN:VTIMEZONE
TZID:America/Chicago
BEGIN:STANDARD
TZNAME:CST
DTSTART:20241103T020000
TZOFFSETFROM:-0500
TZOFFSETTO:-0600
RDATE:20251102T020000
RDATE:20261101T020000
END:STANDARD
BEGIN:DAYLIGHT
TZNAME:CDT
DTSTART:20250309T020000
TZOFFSETFROM:-0600
TZOFFSETTO:-0500
RDATE:20260308T020000
END:DAYLIGHT
END:VTIMEZONE
BEGIN:VEVENT
UID:7faec89d-8ecf-4da5-be04-39df32449001
DTSTAMP:20260423T175545Z
DESCRIPTION:
DTSTART;TZID=America/Chicago:20250712T120000
DTEND;TZID=America/Chicago:20250712T200000
LOCATION:Lincoln Ikes Rifle/Pistol Range 4
SUMMARY:Action Pistol Match shot under CMP Rules (Range 4)
END:VEVENT
END:VCALENDAR
