BEGIN:VCALENDAR
VERSION:2.0
PRODID:-//lincolnikes.com//NONSGML kigkonsult.se iCalcreator 2.30.10//
CALSCALE:GREGORIAN
METHOD:PUBLISH
UID:32df6f8c-283c-46a7-8568-770cc9548d50
X-WR-CALDESC:We are the host site for several USCCA classes that will cover
  what is included in our first aid kits out here free of charge to our Lin
 coln Ikes members. These classes will be on four Wednesday evenings from 7
 :00 – 9:00 p.m. in our clubhouse on:\n\nJuly 9th\n\nJuly 16th\n\nJuly 23rd
 \n\nJuly 30th\n\nEach of these classes\, offered by Steve Bedell with Zero
 ed-In Training\, will be the same so hopefully one of these dates and time
 s will work for you. Topics that will be covered are:\n\n• Effective Bleed
 ing Control\n\n• Estimating Blood Loss\n\n• Compression Bandages\n\n• Tour
 niquets\n\n• Wound Packing\n\n• Penetrating Injuries to the Torso\n\n• Tre
 ating for Shock\n\nYou need to pre-register for each of these classes at h
 ttps://www.usconcealedcarry.com/firearms-training/all-classes/\n\n(press t
 he next button in the lower right corner of the class listing to see addit
 ional dates)\n\nZeroed-In Training will also offer these following classes
  in July from 7:00 – 9:00 p.m. in our clubhouse:\n\nTuesday\, July 15th – 
 Constitutional Carry Class\n\nTuesday\, July 22nd – Legal Use of Force Cla
 ss\n\nFriday\, July 25th – Violent Encounters & the Aftermath Class\n\nIf 
 you are interested in attending any of these classes\, please register at 
 the link provided above. \n\nAnd if you have any questions or concerns\, p
 lease contact Instructor Zeroed-In Training Instructor Steve Bedell at ste
 ve@zeroedintraining.com\, phone 207.572.9634.
X-WR-RELCALID:2d44c04fb90c7a5c8c76a7c8217445ca
X-WR-TIMEZONE:America/Chicago
BEGIN:VTIMEZONE
TZID:America/Chicago
BEGIN:STANDARD
TZNAME:CST
DTSTART:20241103T020000
TZOFFSETFROM:-0500
TZOFFSETTO:-0600
RDATE:20251102T020000
RDATE:20261101T020000
END:STANDARD
BEGIN:DAYLIGHT
TZNAME:CDT
DTSTART:20250309T020000
TZOFFSETFROM:-0600
TZOFFSETTO:-0500
RDATE:20260308T020000
END:DAYLIGHT
END:VTIMEZONE
BEGIN:VEVENT
UID:e57d3cc2-4cf5-40d9-9419-f2c0e1490bfc
DTSTAMP:20260423T180020Z
DESCRIPTION:We are the host site for several USCCA classes that will cover 
 what is included in our first aid kits out here free of charge to our Linc
 oln Ikes members. These classes will be on four Wednesday evenings from 7:
 00 – 9:00 p.m. in our clubhouse on:\n\nJuly 9th\n\nJuly 16th\n\nJuly 23rd
 \n\nJuly 30th\n\nEach of these classes\, offered by Steve Bedell with Zero
 ed-In Training\, will be the same so hopefully one of these dates and time
 s will work for you. Topics that will be covered are:\n\n• Effective Bleed
 ing Control\n\n• Estimating Blood Loss\n\n• Compression Bandages\n\n• Tour
 niquets\n\n• Wound Packing\n\n• Penetrating Injuries to the Torso\n\n• Tre
 ating for Shock\n\nYou need to pre-register for each of these classes at h
 ttps://www.usconcealedcarry.com/firearms-training/all-classes/\n\n(press t
 he next button in the lower right corner of the class listing to see addit
 ional dates)\n\nZeroed-In Training will also offer these following classes
  in July from 7:00 – 9:00 p.m. in our clubhouse:\n\nTuesday\, July 15th – 
 Constitutional Carry Class\n\nTuesday\, July 22nd – Legal Use of Force Cla
 ss\n\nFriday\, July 25th – Violent Encounters & the Aftermath Class\n\nIf 
 you are interested in attending any of these classes\, please register at 
 the link provided above. \n\nAnd if you have any questions or concerns\, p
 lease contact Instructor Zeroed-In Training Instructor Steve Bedell at ste
 ve@zeroedintraining.com\, phone 207.572.9634.
DTSTART;TZID=America/Chicago:20250715T190000
DTEND;TZID=America/Chicago:20250715T210000
LOCATION:Lincoln Ikes Clubhouse
SUMMARY:Free USCCA Constitutional Carry Class (Clubhouse)
END:VEVENT
END:VCALENDAR
