BEGIN:VCALENDAR
VERSION:2.0
PRODID:-//lincolnikes.com//NONSGML kigkonsult.se iCalcreator 2.30.10//
CALSCALE:GREGORIAN
METHOD:PUBLISH
UID:9365e34e-6fe1-49bc-9372-a73b7d9d2b42
X-WR-CALDESC:
X-WR-RELCALID:3122f7973bd7ad334d3fbfc0b5978218
X-WR-TIMEZONE:America/Chicago
BEGIN:VTIMEZONE
TZID:America/Chicago
BEGIN:STANDARD
TZNAME:CST
DTSTART:20241103T020000
TZOFFSETFROM:-0500
TZOFFSETTO:-0600
RDATE:20251102T020000
RDATE:20261101T020000
END:STANDARD
BEGIN:DAYLIGHT
TZNAME:CDT
DTSTART:20250309T020000
TZOFFSETFROM:-0600
TZOFFSETTO:-0500
RDATE:20260308T020000
END:DAYLIGHT
END:VTIMEZONE
BEGIN:VEVENT
UID:fc563ec6-ce9d-483c-b1e4-7ea0a3eca6a6
DTSTAMP:20260423T173416Z
DESCRIPTION:
DTSTART;TZID=America/Chicago:20250720T070000
DTEND;TZID=America/Chicago:20250720T150000
LOCATION:Rifle Range 2
SUMMARY:ARA Match (Range 2)
END:VEVENT
END:VCALENDAR
