BEGIN:VCALENDAR
VERSION:2.0
PRODID:-//lincolnikes.com//NONSGML kigkonsult.se iCalcreator 2.30.10//
CALSCALE:GREGORIAN
METHOD:PUBLISH
UID:8de59212-9984-4db5-8dc0-f118d370e731
X-WR-CALDESC:
X-WR-RELCALID:d54f27d7eb3c91b08f4c6df870f28e90
X-WR-TIMEZONE:America/Chicago
BEGIN:VTIMEZONE
TZID:America/Chicago
BEGIN:STANDARD
TZNAME:CST
DTSTART:20241103T020000
TZOFFSETFROM:-0500
TZOFFSETTO:-0600
RDATE:20251102T020000
RDATE:20261101T020000
END:STANDARD
BEGIN:DAYLIGHT
TZNAME:CDT
DTSTART:20250309T020000
TZOFFSETFROM:-0600
TZOFFSETTO:-0500
RDATE:20260308T020000
END:DAYLIGHT
END:VTIMEZONE
BEGIN:VEVENT
UID:71bb5f1f-685d-4944-b1eb-24f68bf0740c
DTSTAMP:20260423T175455Z
DESCRIPTION:
DTSTART;TZID=America/Chicago:20250722T170000
DTEND;TZID=America/Chicago:20250722T190000
LOCATION:Lincoln Ikes Rifle Range 4
SUMMARY:Rifle Range 4 Closed for Training Activities
END:VEVENT
END:VCALENDAR
