BEGIN:VCALENDAR
VERSION:2.0
PRODID:-//lincolnikes.com//NONSGML kigkonsult.se iCalcreator 2.30.10//
CALSCALE:GREGORIAN
METHOD:PUBLISH
UID:5672eaf9-7567-4a42-ac44-b447448c245b
X-WR-CALDESC:
X-WR-RELCALID:b22f7dabec8fe267a0a966912cbae124
X-WR-TIMEZONE:America/Chicago
BEGIN:VTIMEZONE
TZID:America/Chicago
BEGIN:STANDARD
TZNAME:CST
DTSTART:20241103T020000
TZOFFSETFROM:-0500
TZOFFSETTO:-0600
RDATE:20251102T020000
RDATE:20261101T020000
END:STANDARD
BEGIN:DAYLIGHT
TZNAME:CDT
DTSTART:20250309T020000
TZOFFSETFROM:-0600
TZOFFSETTO:-0500
RDATE:20260308T020000
END:DAYLIGHT
END:VTIMEZONE
BEGIN:VEVENT
UID:de3da59d-553c-484a-8123-356ea5367c3c
DTSTAMP:20260423T175501Z
DESCRIPTION:
DTSTART;TZID=America/Chicago:20250723T170000
DTEND;TZID=America/Chicago:20250723T190000
LOCATION:Lincoln Ikes Rifle Range 4
SUMMARY:Rifle Range 4 Closed for Training Activities
END:VEVENT
END:VCALENDAR
