BEGIN:VCALENDAR
VERSION:2.0
PRODID:-//lincolnikes.com//NONSGML kigkonsult.se iCalcreator 2.30.10//
CALSCALE:GREGORIAN
METHOD:PUBLISH
UID:48bf5a5a-6a15-4c0d-b2c8-6a8dcfd9ebff
X-WR-CALDESC:
X-WR-RELCALID:71094bc77b1b0da565fd08a063d2ae1e
X-WR-TIMEZONE:America/Chicago
BEGIN:VTIMEZONE
TZID:America/Chicago
BEGIN:STANDARD
TZNAME:CST
DTSTART:20241103T020000
TZOFFSETFROM:-0500
TZOFFSETTO:-0600
RDATE:20251102T020000
RDATE:20261101T020000
END:STANDARD
BEGIN:DAYLIGHT
TZNAME:CDT
DTSTART:20250309T020000
TZOFFSETFROM:-0600
TZOFFSETTO:-0500
RDATE:20260308T020000
END:DAYLIGHT
END:VTIMEZONE
BEGIN:VEVENT
UID:9d3789e0-050a-48d9-a281-7e47b157031c
DTSTAMP:20260423T175501Z
DESCRIPTION:
DTSTART;TZID=America/Chicago:20250726T050000
DTEND;TZID=America/Chicago:20250726T050001
LOCATION:Lincoln Ikes Rifle Range 2
SUMMARY:Rifle Range 2 Closed for Maintenance (All Day)
END:VEVENT
END:VCALENDAR
